BEGIN:VCALENDAR
VERSION:2.0
PRODID:-//Knižnica Antona Bernoláka v Nových Zámkoch - ECPv5.14.1//NONSGML v1.0//EN
CALSCALE:GREGORIAN
METHOD:PUBLISH
X-WR-CALNAME:Knižnica Antona Bernoláka v Nových Zámkoch
X-ORIGINAL-URL:https://abkniznica.sk
X-WR-CALDESC:Events for Knižnica Antona Bernoláka v Nových Zámkoch
REFRESH-INTERVAL;VALUE=DURATION:PT1H
X-Robots-Tag:noindex
X-PUBLISHED-TTL:PT1H
BEGIN:VTIMEZONE
TZID:Europe/Bratislava
BEGIN:DAYLIGHT
TZOFFSETFROM:+0100
TZOFFSETTO:+0200
TZNAME:CEST
DTSTART:20260329T010000
END:DAYLIGHT
BEGIN:STANDARD
TZOFFSETFROM:+0200
TZOFFSETTO:+0100
TZNAME:CET
DTSTART:20261025T010000
END:STANDARD
END:VTIMEZONE
BEGIN:VEVENT
DTSTART;TZID=Europe/Bratislava:20260407T000000
DTEND;TZID=Europe/Bratislava:20260512T000000
DTSTAMP:20260425T153131
CREATED:20260331T124357Z
LAST-MODIFIED:20260331T124357Z
UID:13425-1775520000-1778544000@abkniznica.sk
SUMMARY:Moja rodina - výtvarná súťaž (žiaci prvého stupňa ZŠ)
DESCRIPTION:
URL:https://abkniznica.sk/kalendar-podujati/
END:VEVENT
BEGIN:VEVENT
DTSTART;TZID=Europe/Bratislava:20260505T090000
DTEND;TZID=Europe/Bratislava:20260505T100000
DTSTAMP:20260425T153131
CREATED:20260424T123749Z
LAST-MODIFIED:20260424T123749Z
UID:13585-1777971600-1777975200@abkniznica.sk
SUMMARY:Králiček Kornel má rád knihy (MŠ Šoltésová)
DESCRIPTION:
URL:https://abkniznica.sk/kalendar-podujati/
END:VEVENT
BEGIN:VEVENT
DTSTART;TZID=Europe/Bratislava:20260505T170000
DTEND;TZID=Europe/Bratislava:20260505T180000
DTSTAMP:20260425T153131
CREATED:20260421T111530Z
LAST-MODIFIED:20260421T111530Z
UID:13565-1778000400-1778004000@abkniznica.sk
SUMMARY:Vernisáž – Babinec: Juliana Hadvigová\, Ivana Hadvigová a Elena Jamrich Hadvigová (verejnosť)
DESCRIPTION:
URL:https://abkniznica.sk/kalendar-podujati/
END:VEVENT
BEGIN:VEVENT
DTSTART;TZID=Europe/Bratislava:20260505T170000
DTEND;TZID=Europe/Bratislava:20260529T170000
DTSTAMP:20260425T153131
CREATED:20260421T111125Z
LAST-MODIFIED:20260421T111125Z
UID:13562-1778000400-1780074000@abkniznica.sk
SUMMARY:Výstava - Babinec: Juliana Hadvigová\, Ivana Hadvigová a Elena Jamrich Hadvigová (verejnosť)
DESCRIPTION:
URL:https://abkniznica.sk/kalendar-podujati/
END:VEVENT
BEGIN:VEVENT
DTSTART;TZID=Europe/Bratislava:20260506T090000
DTEND;TZID=Europe/Bratislava:20260506T100000
DTSTAMP:20260425T153131
CREATED:20260424T124543Z
LAST-MODIFIED:20260424T124543Z
UID:13588-1778058000-1778061600@abkniznica.sk
SUMMARY:Králiček Kornel má rád knihy (MŠ Šoltésová)
DESCRIPTION:
URL:https://abkniznica.sk/kalendar-podujati/
END:VEVENT
BEGIN:VEVENT
DTSTART;TZID=Europe/Bratislava:20260507T120000
DTEND;TZID=Europe/Bratislava:20260507T130000
DTSTAMP:20260425T153131
CREATED:20260424T123114Z
LAST-MODIFIED:20260424T123114Z
UID:13582-1778155200-1778158800@abkniznica.sk
SUMMARY:O štvorci\, kosoštvorci\, dvoch malých\, jednom strednom a dvoch veľkých trojuholníkoch (3. a 5. ročník ZŠ)
DESCRIPTION:
URL:https://abkniznica.sk/kalendar-podujati/
END:VEVENT
BEGIN:VEVENT
DTSTART;TZID=Europe/Bratislava:20260513T163000
DTEND;TZID=Europe/Bratislava:20260513T173000
DTSTAMP:20260425T153131
CREATED:20260423T113335Z
LAST-MODIFIED:20260423T113335Z
UID:13572-1778689800-1778693400@abkniznica.sk
SUMMARY:Tajomná Saudská Arábia so Soňou Bulbeck (verejnosť)
DESCRIPTION:
URL:https://abkniznica.sk/kalendar-podujati/
END:VEVENT
BEGIN:VEVENT
DTSTART;TZID=Europe/Bratislava:20260518T130000
DTEND;TZID=Europe/Bratislava:20260518T140000
DTSTAMP:20260425T153131
CREATED:20260303T120751Z
LAST-MODIFIED:20260424T124948Z
UID:13060-1779109200-1779112800@abkniznica.sk
SUMMARY:Zajacov portrét (Šikovné ručičky)
DESCRIPTION:
URL:https://abkniznica.sk/kalendar-podujati/
END:VEVENT
BEGIN:VEVENT
DTSTART;TZID=Europe/Bratislava:20260519T103000
DTEND;TZID=Europe/Bratislava:20260519T113000
DTSTAMP:20260425T153131
CREATED:20260423T113802Z
LAST-MODIFIED:20260423T113802Z
UID:13577-1779186600-1779190200@abkniznica.sk
SUMMARY:Stretnutie s Dianou Mašlejovou (vybraný triedny kolektív)
DESCRIPTION:
URL:https://abkniznica.sk/kalendar-podujati/
END:VEVENT
END:VCALENDAR