BEGIN:VCALENDAR
VERSION:2.0
PRODID:-//Knižnica Antona Bernoláka v Nových Zámkoch - ECPv5.14.1//NONSGML v1.0//EN
CALSCALE:GREGORIAN
METHOD:PUBLISH
X-WR-CALNAME:Knižnica Antona Bernoláka v Nových Zámkoch
X-ORIGINAL-URL:https://abkniznica.sk
X-WR-CALDESC:Events for Knižnica Antona Bernoláka v Nových Zámkoch
REFRESH-INTERVAL;VALUE=DURATION:PT1H
X-Robots-Tag:noindex
X-PUBLISHED-TTL:PT1H
BEGIN:VTIMEZONE
TZID:Europe/Bratislava
BEGIN:DAYLIGHT
TZOFFSETFROM:+0100
TZOFFSETTO:+0200
TZNAME:CEST
DTSTART:20260329T010000
END:DAYLIGHT
BEGIN:STANDARD
TZOFFSETFROM:+0200
TZOFFSETTO:+0100
TZNAME:CET
DTSTART:20261025T010000
END:STANDARD
END:VTIMEZONE
BEGIN:VEVENT
DTSTART;TZID=Europe/Bratislava:20260302T090000
DTEND;TZID=Europe/Bratislava:20260302T120000
DTSTAMP:20260425T153131
CREATED:20260301T105819Z
LAST-MODIFIED:20260301T105819Z
UID:12958-1772442000-1772452800@abkniznica.sk
SUMMARY:Donáška kníh k vám domov (zdravotne znevýhodnení čitatelia a držitelia preukazu s ťažkým zdravotným postihnutím a klienti domovov sociálnych služieb)
DESCRIPTION:
URL:https://abkniznica.sk/kalendar-podujati/
END:VEVENT
BEGIN:VEVENT
DTSTART;TZID=Europe/Bratislava:20260303T170000
DTEND;TZID=Europe/Bratislava:20260303T180000
DTSTAMP:20260425T153131
CREATED:20260218T130338Z
LAST-MODIFIED:20260218T130338Z
UID:12847-1772557200-1772560800@abkniznica.sk
SUMMARY:Vernisáž – Náhľad do ateliéru Soni Dubcovej Košturiak (verejnosť)
DESCRIPTION:
URL:https://abkniznica.sk/kalendar-podujati/
END:VEVENT
BEGIN:VEVENT
DTSTART;TZID=Europe/Bratislava:20260303T170000
DTEND;TZID=Europe/Bratislava:20260327T170000
DTSTAMP:20260425T153131
CREATED:20260218T130055Z
LAST-MODIFIED:20260218T130055Z
UID:12844-1772557200-1774630800@abkniznica.sk
SUMMARY:Výstava - Náhľad do ateliéru Soni Dubcovej Košturiak (verejnosť)
DESCRIPTION:
URL:https://abkniznica.sk/kalendar-podujati/
END:VEVENT
BEGIN:VEVENT
DTSTART;TZID=Europe/Bratislava:20260304T090000
DTEND;TZID=Europe/Bratislava:20260304T100000
DTSTAMP:20260425T153131
CREATED:20260301T113343Z
LAST-MODIFIED:20260301T113343Z
UID:12961-1772614800-1772618400@abkniznica.sk
SUMMARY:Hastrošovci (3. ročník)
DESCRIPTION:
URL:https://abkniznica.sk/kalendar-podujati/
END:VEVENT
BEGIN:VEVENT
DTSTART;TZID=Europe/Bratislava:20260304T130000
DTEND;TZID=Europe/Bratislava:20260304T140000
DTSTAMP:20260425T153131
CREATED:20260301T184308Z
LAST-MODIFIED:20260301T184308Z
UID:12982-1772629200-1772632800@abkniznica.sk
SUMMARY:Je nás počuť (verejnosť)
DESCRIPTION:
URL:https://abkniznica.sk/kalendar-podujati/
END:VEVENT
BEGIN:VEVENT
DTSTART;TZID=Europe/Bratislava:20260304T163000
DTEND;TZID=Europe/Bratislava:20260304T180000
DTSTAMP:20260425T153131
CREATED:20260213T132803Z
LAST-MODIFIED:20260213T132803Z
UID:12831-1772641800-1772647200@abkniznica.sk
SUMMARY:Ako komunikovať s teenagermi s dôverou a udržať si rešpekt (verejnosť)
DESCRIPTION:
URL:https://abkniznica.sk/kalendar-podujati/
END:VEVENT
BEGIN:VEVENT
DTSTART;TZID=Europe/Bratislava:20260305T100000
DTEND;TZID=Europe/Bratislava:20260305T113000
DTSTAMP:20260425T153131
CREATED:20260218T131753Z
LAST-MODIFIED:20260218T131753Z
UID:12852-1772704800-1772710200@abkniznica.sk
SUMMARY:Posedenie pri káve\, čaji a dušu osviežujúcej literatúre (Vek nádeje)
DESCRIPTION:
URL:https://abkniznica.sk/kalendar-podujati/
END:VEVENT
BEGIN:VEVENT
DTSTART;TZID=Europe/Bratislava:20260306T090000
DTEND;TZID=Europe/Bratislava:20260306T100000
DTSTAMP:20260425T153131
CREATED:20260302T121050Z
LAST-MODIFIED:20260302T121050Z
UID:13020-1772787600-1772791200@abkniznica.sk
SUMMARY:Skriňa plná rukávov (1. ročník)
DESCRIPTION:
URL:https://abkniznica.sk/kalendar-podujati/
END:VEVENT
BEGIN:VEVENT
DTSTART;TZID=Europe/Bratislava:20260306T103000
DTEND;TZID=Europe/Bratislava:20260306T113000
DTSTAMP:20260425T153131
CREATED:20260224T112520Z
LAST-MODIFIED:20260224T112520Z
UID:12855-1772793000-1772796600@abkniznica.sk
SUMMARY:Knižnica pána Losa + pasovanie prvákov za čitateľov knižnice (1. ročník)
DESCRIPTION:
URL:https://abkniznica.sk/kalendar-podujati/
END:VEVENT
BEGIN:VEVENT
DTSTART;TZID=Europe/Bratislava:20260306T170000
DTEND;TZID=Europe/Bratislava:20260306T180000
DTSTAMP:20260425T153131
CREATED:20260302T113352Z
LAST-MODIFIED:20260302T113352Z
UID:13004-1772816400-1772820000@abkniznica.sk
SUMMARY:Stretnutie (nielen) s fantastikou (členovia klubu Orion\, verejnosť)
DESCRIPTION:
URL:https://abkniznica.sk/kalendar-podujati/
END:VEVENT
BEGIN:VEVENT
DTSTART;TZID=Europe/Bratislava:20260309T090000
DTEND;TZID=Europe/Bratislava:20260309T100000
DTSTAMP:20260425T153131
CREATED:20260303T112834Z
LAST-MODIFIED:20260303T112834Z
UID:13046-1773046800-1773050400@abkniznica.sk
SUMMARY:Mýty a legendy – Hviezdna obloha (7. ročník)
DESCRIPTION:
URL:https://abkniznica.sk/kalendar-podujati/
END:VEVENT
BEGIN:VEVENT
DTSTART;TZID=Europe/Bratislava:20260309T103000
DTEND;TZID=Europe/Bratislava:20260309T113000
DTSTAMP:20260425T153131
CREATED:20260302T115241Z
LAST-MODIFIED:20260302T115241Z
UID:13007-1773052200-1773055800@abkniznica.sk
SUMMARY:Ako to funguje? (4. ročník)
DESCRIPTION:
URL:https://abkniznica.sk/kalendar-podujati/
END:VEVENT
BEGIN:VEVENT
DTSTART;TZID=Europe/Bratislava:20260310T083000
DTEND;TZID=Europe/Bratislava:20260310T093000
DTSTAMP:20260425T153131
CREATED:20260302T120700Z
LAST-MODIFIED:20260302T120700Z
UID:13017-1773131400-1773135000@abkniznica.sk
SUMMARY:Ako chutí svet (4. ročník)
DESCRIPTION:
URL:https://abkniznica.sk/kalendar-podujati/
END:VEVENT
BEGIN:VEVENT
DTSTART;TZID=Europe/Bratislava:20260310T100000
DTEND;TZID=Europe/Bratislava:20260310T110000
DTSTAMP:20260425T153131
CREATED:20260302T121346Z
LAST-MODIFIED:20260302T121346Z
UID:13023-1773136800-1773140400@abkniznica.sk
SUMMARY:Skriňa plná rukávov (1. ročník)
DESCRIPTION:
URL:https://abkniznica.sk/kalendar-podujati/
END:VEVENT
BEGIN:VEVENT
DTSTART;TZID=Europe/Bratislava:20260311T100000
DTEND;TZID=Europe/Bratislava:20260311T110000
DTSTAMP:20260425T153131
CREATED:20260224T112912Z
LAST-MODIFIED:20260224T112912Z
UID:12858-1773223200-1773226800@abkniznica.sk
SUMMARY:Knižnica pána Losa + pasovanie prvákov za čitateľov knižnice (1. ročník)
DESCRIPTION:
URL:https://abkniznica.sk/kalendar-podujati/
END:VEVENT
BEGIN:VEVENT
DTSTART;TZID=Europe/Bratislava:20260311T103000
DTEND;TZID=Europe/Bratislava:20260311T113000
DTSTAMP:20260425T153131
CREATED:20260302T115616Z
LAST-MODIFIED:20260302T115616Z
UID:13010-1773225000-1773228600@abkniznica.sk
SUMMARY:Ako to funguje? (4. ročník)
DESCRIPTION:
URL:https://abkniznica.sk/kalendar-podujati/
END:VEVENT
BEGIN:VEVENT
DTSTART;TZID=Europe/Bratislava:20260312T080000
DTEND;TZID=Europe/Bratislava:20260312T090000
DTSTAMP:20260425T153131
CREATED:20260301T113649Z
LAST-MODIFIED:20260301T113649Z
UID:12964-1773302400-1773306000@abkniznica.sk
SUMMARY:Hastrošovci (3. ročník)
DESCRIPTION:
URL:https://abkniznica.sk/kalendar-podujati/
END:VEVENT
BEGIN:VEVENT
DTSTART;TZID=Europe/Bratislava:20260312T100000
DTEND;TZID=Europe/Bratislava:20260312T110000
DTSTAMP:20260425T153131
CREATED:20260301T195846Z
LAST-MODIFIED:20260301T195846Z
UID:12985-1773309600-1773313200@abkniznica.sk
SUMMARY:Nie je všetko zlato\, čo sa blyští (3. ročník)
DESCRIPTION:
URL:https://abkniznica.sk/kalendar-podujati/
END:VEVENT
BEGIN:VEVENT
DTSTART;TZID=Europe/Bratislava:20260313T090000
DTEND;TZID=Europe/Bratislava:20260313T100000
DTSTAMP:20260425T153131
CREATED:20260303T113923Z
LAST-MODIFIED:20260303T113923Z
UID:13049-1773392400-1773396000@abkniznica.sk
SUMMARY:Marec s knihami\, ktoré zmenili dejiny (9. ročník)
DESCRIPTION:
URL:https://abkniznica.sk/kalendar-podujati/
END:VEVENT
BEGIN:VEVENT
DTSTART;TZID=Europe/Bratislava:20260313T103000
DTEND;TZID=Europe/Bratislava:20260313T113000
DTSTAMP:20260425T153131
CREATED:20260302T115853Z
LAST-MODIFIED:20260302T115853Z
UID:13013-1773397800-1773401400@abkniznica.sk
SUMMARY:Ako to funguje? (4. ročník)
DESCRIPTION:
URL:https://abkniznica.sk/kalendar-podujati/
END:VEVENT
BEGIN:VEVENT
DTSTART;TZID=Europe/Bratislava:20260316T103000
DTEND;TZID=Europe/Bratislava:20260316T113000
DTSTAMP:20260425T153131
CREATED:20260302T122451Z
LAST-MODIFIED:20260302T122451Z
UID:13032-1773657000-1773660600@abkniznica.sk
SUMMARY:Rozprávky (2. ročník)
DESCRIPTION:
URL:https://abkniznica.sk/kalendar-podujati/
END:VEVENT
BEGIN:VEVENT
DTSTART;TZID=Europe/Bratislava:20260316T153000
DTEND;TZID=Europe/Bratislava:20260316T163000
DTSTAMP:20260425T153131
CREATED:20260218T125007Z
LAST-MODIFIED:20260218T125007Z
UID:12839-1773675000-1773678600@abkniznica.sk
SUMMARY:Stretnutie s autorkami Máriou Petrovou a Jankou Bernáthovou – Zastavme čas na jednu báseň (verejnosť)
DESCRIPTION:
URL:https://abkniznica.sk/kalendar-podujati/
END:VEVENT
BEGIN:VEVENT
DTSTART;TZID=Europe/Bratislava:20260317T090000
DTEND;TZID=Europe/Bratislava:20260317T110000
DTSTAMP:20260425T153131
CREATED:20260303T120518Z
LAST-MODIFIED:20260303T120518Z
UID:13057-1773738000-1773745200@abkniznica.sk
SUMMARY:Zajacov portrét (ZŠ Zemné)
DESCRIPTION:
URL:https://abkniznica.sk/kalendar-podujati/
END:VEVENT
BEGIN:VEVENT
DTSTART;TZID=Europe/Bratislava:20260318T160000
DTEND;TZID=Europe/Bratislava:20260318T170000
DTSTAMP:20260425T153131
CREATED:20260303T111842Z
LAST-MODIFIED:20260303T111842Z
UID:13043-1773849600-1773853200@abkniznica.sk
SUMMARY:Rozprávková streda s vílou Knihomilou (verejnosť)
DESCRIPTION:
URL:https://abkniznica.sk/kalendar-podujati/
END:VEVENT
BEGIN:VEVENT
DTSTART;TZID=Europe/Bratislava:20260318T163000
DTEND;TZID=Europe/Bratislava:20260318T173000
DTSTAMP:20260425T153131
CREATED:20260303T111547Z
LAST-MODIFIED:20260303T111547Z
UID:13040-1773851400-1773855000@abkniznica.sk
SUMMARY:Čitateľský klub Puella – AI in books (členovia klubu Puella\, verejnosť)
DESCRIPTION:
URL:https://abkniznica.sk/kalendar-podujati/
END:VEVENT
BEGIN:VEVENT
DTSTART;TZID=Europe/Bratislava:20260319T090000
DTEND;TZID=Europe/Bratislava:20260319T100000
DTSTAMP:20260425T153131
CREATED:20260301T115524Z
LAST-MODIFIED:20260301T115524Z
UID:12975-1773910800-1773914400@abkniznica.sk
SUMMARY:Rozprávky (2. ročník)
DESCRIPTION:
URL:https://abkniznica.sk/kalendar-podujati/
END:VEVENT
BEGIN:VEVENT
DTSTART;TZID=Europe/Bratislava:20260319T103000
DTEND;TZID=Europe/Bratislava:20260319T113000
DTSTAMP:20260425T153131
CREATED:20260303T170009Z
LAST-MODIFIED:20260303T170009Z
UID:13070-1773916200-1773919800@abkniznica.sk
SUMMARY:Popletko a veľká sestra (4. ročník)
DESCRIPTION:
URL:https://abkniznica.sk/kalendar-podujati/
END:VEVENT
BEGIN:VEVENT
DTSTART;TZID=Europe/Bratislava:20260320T080000
DTEND;TZID=Europe/Bratislava:20260320T110000
DTSTAMP:20260425T153131
CREATED:20260311T075403Z
LAST-MODIFIED:20260311T075403Z
UID:13172-1773993600-1774004400@abkniznica.sk
SUMMARY:Štúrova škola / ROMANTIZMUS / Štúrovskí básnici (verejnosť)
DESCRIPTION:
URL:https://abkniznica.sk/kalendar-podujati/
END:VEVENT
BEGIN:VEVENT
DTSTART;TZID=Europe/Bratislava:20260320T090000
DTEND;TZID=Europe/Bratislava:20260320T100000
DTSTAMP:20260425T153131
CREATED:20260302T121641Z
LAST-MODIFIED:20260302T121641Z
UID:13026-1773997200-1774000800@abkniznica.sk
SUMMARY:Skriňa plná rukávov (1. ročník)
DESCRIPTION:
URL:https://abkniznica.sk/kalendar-podujati/
END:VEVENT
BEGIN:VEVENT
DTSTART;TZID=Europe/Bratislava:20260320T160000
DTEND;TZID=Europe/Bratislava:20260320T183000
DTSTAMP:20260425T153131
CREATED:20260213T131734Z
LAST-MODIFIED:20260224T111633Z
UID:12825-1774022400-1774031400@abkniznica.sk
SUMMARY:Podvečer s Harrym Potterom (4. ročník)
DESCRIPTION:
URL:https://abkniznica.sk/kalendar-podujati/
END:VEVENT
END:VCALENDAR