BEGIN:VCALENDAR
VERSION:2.0
PRODID:-//Knižnica Antona Bernoláka v Nových Zámkoch - ECPv5.14.1//NONSGML v1.0//EN
CALSCALE:GREGORIAN
METHOD:PUBLISH
X-WR-CALNAME:Knižnica Antona Bernoláka v Nových Zámkoch
X-ORIGINAL-URL:https://abkniznica.sk
X-WR-CALDESC:Events for Knižnica Antona Bernoláka v Nových Zámkoch
REFRESH-INTERVAL;VALUE=DURATION:PT1H
X-Robots-Tag:noindex
X-PUBLISHED-TTL:PT1H
BEGIN:VTIMEZONE
TZID:Europe/Bratislava
BEGIN:DAYLIGHT
TZOFFSETFROM:+0100
TZOFFSETTO:+0200
TZNAME:CEST
DTSTART:20260329T010000
END:DAYLIGHT
BEGIN:STANDARD
TZOFFSETFROM:+0200
TZOFFSETTO:+0100
TZNAME:CET
DTSTART:20261025T010000
END:STANDARD
END:VTIMEZONE
BEGIN:VEVENT
DTSTART;TZID=Europe/Bratislava:20260330T090000
DTEND;TZID=Europe/Bratislava:20260330T100000
DTSTAMP:20260425T152926
CREATED:20260326T094534Z
LAST-MODIFIED:20260326T094534Z
UID:13299-1774861200-1774864800@abkniznica.sk
SUMMARY:Králiček Kornel má rád knihy (MŠ Palárikovo)
DESCRIPTION:
URL:https://abkniznica.sk/kalendar-podujati/
END:VEVENT
BEGIN:VEVENT
DTSTART;TZID=Europe/Bratislava:20260330T163000
DTEND;TZID=Europe/Bratislava:20260330T173000
DTSTAMP:20260425T152926
CREATED:20260311T074323Z
LAST-MODIFIED:20260311T074323Z
UID:13167-1774888200-1774891800@abkniznica.sk
SUMMARY:Poetická knižnica (verejnosť)
DESCRIPTION:
URL:https://abkniznica.sk/kalendar-podujati/
END:VEVENT
END:VCALENDAR