BEGIN:VCALENDAR
VERSION:2.0
PRODID:-//Knižnica Antona Bernoláka v Nových Zámkoch - ECPv5.14.1//NONSGML v1.0//EN
CALSCALE:GREGORIAN
METHOD:PUBLISH
X-WR-CALNAME:Knižnica Antona Bernoláka v Nových Zámkoch
X-ORIGINAL-URL:https://abkniznica.sk
X-WR-CALDESC:Events for Knižnica Antona Bernoláka v Nových Zámkoch
REFRESH-INTERVAL;VALUE=DURATION:PT1H
X-Robots-Tag:noindex
X-PUBLISHED-TTL:PT1H
BEGIN:VTIMEZONE
TZID:Europe/Bratislava
BEGIN:DAYLIGHT
TZOFFSETFROM:+0100
TZOFFSETTO:+0200
TZNAME:CEST
DTSTART:20260329T010000
END:DAYLIGHT
BEGIN:STANDARD
TZOFFSETFROM:+0200
TZOFFSETTO:+0100
TZNAME:CET
DTSTART:20261025T010000
END:STANDARD
END:VTIMEZONE
BEGIN:VEVENT
DTSTART;TZID=Europe/Bratislava:20260303T170000
DTEND;TZID=Europe/Bratislava:20260327T170000
DTSTAMP:20260425T171434
CREATED:20260218T130055Z
LAST-MODIFIED:20260218T130055Z
UID:12844-1772557200-1774630800@abkniznica.sk
SUMMARY:Výstava - Náhľad do ateliéru Soni Dubcovej Košturiak (verejnosť)
DESCRIPTION:
URL:https://abkniznica.sk/kalendar-podujati/
END:VEVENT
BEGIN:VEVENT
DTSTART;TZID=Europe/Bratislava:20260320T080000
DTEND;TZID=Europe/Bratislava:20260320T110000
DTSTAMP:20260425T171434
CREATED:20260311T075403Z
LAST-MODIFIED:20260311T075403Z
UID:13172-1773993600-1774004400@abkniznica.sk
SUMMARY:Štúrova škola / ROMANTIZMUS / Štúrovskí básnici (verejnosť)
DESCRIPTION:
URL:https://abkniznica.sk/kalendar-podujati/
END:VEVENT
BEGIN:VEVENT
DTSTART;TZID=Europe/Bratislava:20260320T090000
DTEND;TZID=Europe/Bratislava:20260320T100000
DTSTAMP:20260425T171434
CREATED:20260302T121641Z
LAST-MODIFIED:20260302T121641Z
UID:13026-1773997200-1774000800@abkniznica.sk
SUMMARY:Skriňa plná rukávov (1. ročník)
DESCRIPTION:
URL:https://abkniznica.sk/kalendar-podujati/
END:VEVENT
BEGIN:VEVENT
DTSTART;TZID=Europe/Bratislava:20260320T160000
DTEND;TZID=Europe/Bratislava:20260320T183000
DTSTAMP:20260425T171434
CREATED:20260213T131734Z
LAST-MODIFIED:20260224T111633Z
UID:12825-1774022400-1774031400@abkniznica.sk
SUMMARY:Podvečer s Harrym Potterom (4. ročník)
DESCRIPTION:
URL:https://abkniznica.sk/kalendar-podujati/
END:VEVENT
END:VCALENDAR