BEGIN:VCALENDAR
VERSION:2.0
PRODID:-//Knižnica Antona Bernoláka v Nových Zámkoch - ECPv5.14.1//NONSGML v1.0//EN
CALSCALE:GREGORIAN
METHOD:PUBLISH
X-WR-CALNAME:Knižnica Antona Bernoláka v Nových Zámkoch
X-ORIGINAL-URL:https://abkniznica.sk
X-WR-CALDESC:Events for Knižnica Antona Bernoláka v Nových Zámkoch
REFRESH-INTERVAL;VALUE=DURATION:PT1H
X-Robots-Tag:noindex
X-PUBLISHED-TTL:PT1H
BEGIN:VTIMEZONE
TZID:Europe/Bratislava
BEGIN:DAYLIGHT
TZOFFSETFROM:+0100
TZOFFSETTO:+0200
TZNAME:CEST
DTSTART:20260329T010000
END:DAYLIGHT
BEGIN:STANDARD
TZOFFSETFROM:+0200
TZOFFSETTO:+0100
TZNAME:CET
DTSTART:20261025T010000
END:STANDARD
END:VTIMEZONE
BEGIN:VEVENT
DTSTART;TZID=Europe/Bratislava:20260203T170000
DTEND;TZID=Europe/Bratislava:20260227T170000
DTSTAMP:20260425T171434
CREATED:20260122T125502Z
LAST-MODIFIED:20260122T125502Z
UID:12548-1770138000-1772211600@abkniznica.sk
SUMMARY:Výstava – Katarína Sedláčková: Áže (verejnosť)
DESCRIPTION:
URL:https://abkniznica.sk/kalendar-podujati/
END:VEVENT
BEGIN:VEVENT
DTSTART;TZID=Europe/Bratislava:20260225T083000
DTEND;TZID=Europe/Bratislava:20260225T093000
DTSTAMP:20260425T171434
CREATED:20260130T161613Z
LAST-MODIFIED:20260130T161613Z
UID:12694-1772008200-1772011800@abkniznica.sk
SUMMARY:Malá bosorka (2. ročník)
DESCRIPTION:
URL:https://abkniznica.sk/kalendar-podujati/
END:VEVENT
BEGIN:VEVENT
DTSTART;TZID=Europe/Bratislava:20260225T110000
DTEND;TZID=Europe/Bratislava:20260225T120000
DTSTAMP:20260425T171434
CREATED:20260128T070255Z
LAST-MODIFIED:20260128T070255Z
UID:12604-1772017200-1772020800@abkniznica.sk
SUMMARY:Knižnica pána Losa + pasovanie prvákov za čitateľov knižnice (1. ročník)
DESCRIPTION:
URL:https://abkniznica.sk/kalendar-podujati/
END:VEVENT
END:VCALENDAR